BEGIN:VCALENDAR
VERSION:2.0
PRODID:-//NPH - ECPv6.15.17.1//NONSGML v1.0//EN
CALSCALE:GREGORIAN
METHOD:PUBLISH
X-ORIGINAL-URL:https://nonprofithousing.org
X-WR-CALDESC:Events for NPH
REFRESH-INTERVAL;VALUE=DURATION:PT1H
X-Robots-Tag:noindex
X-PUBLISHED-TTL:PT1H
BEGIN:VTIMEZONE
TZID:America/Los_Angeles
BEGIN:DAYLIGHT
TZOFFSETFROM:-0800
TZOFFSETTO:-0700
TZNAME:PDT
DTSTART:20230312T100000
END:DAYLIGHT
BEGIN:STANDARD
TZOFFSETFROM:-0700
TZOFFSETTO:-0800
TZNAME:PST
DTSTART:20231105T090000
END:STANDARD
BEGIN:DAYLIGHT
TZOFFSETFROM:-0800
TZOFFSETTO:-0700
TZNAME:PDT
DTSTART:20240310T100000
END:DAYLIGHT
BEGIN:STANDARD
TZOFFSETFROM:-0700
TZOFFSETTO:-0800
TZNAME:PST
DTSTART:20241103T090000
END:STANDARD
BEGIN:DAYLIGHT
TZOFFSETFROM:-0800
TZOFFSETTO:-0700
TZNAME:PDT
DTSTART:20250309T100000
END:DAYLIGHT
BEGIN:STANDARD
TZOFFSETFROM:-0700
TZOFFSETTO:-0800
TZNAME:PST
DTSTART:20251102T090000
END:STANDARD
END:VTIMEZONE
BEGIN:VEVENT
DTSTART;TZID=America/Los_Angeles:20240327T120000
DTEND;TZID=America/Los_Angeles:20240327T130000
DTSTAMP:20260419T051200
CREATED:20240313T184249Z
LAST-MODIFIED:20240313T184353Z
UID:53620-1711540800-1711544400@nonprofithousing.org
SUMMARY:Begins with Home Campaign Briefing
DESCRIPTION:[vc_row][vc_column][vc_column_text]Stories are our most powerful narrative tool to reach someone’s heart\, build empathy\, and spark action. On Wednesday\, March 27 from 12-1PM we’re hosting our next Begins with Home Campaign Briefing to share how we can collectively bring our movement’s stories of hope to life and move more people towards action for housing justice in the Bay Area. \nIn addition to covering updates and new developments from the campaign\, this interactive Zoom call will dive into Begins with Home’s essential storytelling checklist – our new cheatsheet for leading with tested narrative strategy\, avoiding pitfalls\, and inspiring a unified call for change. Then\, we’ll have time to workshop your own application of these tactics with other communicators and advocates in the Bay Area. Join us to prepare for a powerful season of storytelling together.[/vc_column_text][vc_btn title=”Register Today” style=”custom” custom_background=”#ba5226″ custom_text=”#ffffff” shape=”square” align=”center” link=”url:https%3A%2F%2Fus02web.zoom.us%2Fmeeting%2Fregister%2FtZ0qd-6rrT4uE9aaSdcHwNVlHlCHaxlwsrXG%23%2Fregistration|target:_blank” el_class=”custom-button”][/vc_column][/vc_row]
URL:https://nonprofithousing.org/event/begins-with-home-march-campaign-briefing/
CATEGORIES:Shift The Bay
ATTACH;FMTTYPE=image/png:https://nonprofithousing.org/wp-content/uploads/2024/03/BWH_Campaign-Briefing-Graphic_March_640x200.png
END:VEVENT
BEGIN:VEVENT
DTSTART;TZID=America/Los_Angeles:20240328T080000
DTEND;TZID=America/Los_Angeles:20240328T170000
DTSTAMP:20260419T051200
CREATED:20240328T180714Z
LAST-MODIFIED:20240328T180714Z
UID:54202-1711612800-1711645200@nonprofithousing.org
SUMMARY:ULI San Francisco: Housing the Bay 2024
DESCRIPTION:[vc_row][vc_column][vc_column_text]ULI San Francisco’s Housing the Bay 2024 is open for registration! Join us all in-person at the Hyatt Regency in San Francisco on Wednesday\, May 8 for a half day summit as we lean into this unique moment in time to analyze how we can build more housing at all income levels. Explore each of these sessions\, learn about the speakers\, see the full agenda\, and secure your spot on the ULI SF website:[/vc_column_text][vc_btn title=”Learn More and Register” style=”custom” custom_background=”#ba5226″ custom_text=”#ffffff” shape=”square” align=”center” link=”url:https%3A%2F%2Fsf.uli.org%2Fget-involved%2Fhousing-the-bay%2F|target:_blank” el_class=”custom-button”][/vc_column][/vc_row]
URL:https://nonprofithousing.org/event/uli-san-francisco-housing-the-bay-2024/
CATEGORIES:Member Events
ATTACH;FMTTYPE=image/jpeg:https://nonprofithousing.org/wp-content/uploads/2024/03/2024-HTB-postcard-1.jpg
END:VEVENT
END:VCALENDAR